BEGIN:VCALENDAR
PRODID:-//eluceo/ical//2.0/EN
VERSION:2.0
CALSCALE:GREGORIAN
BEGIN:VEVENT
UID:b871cd177ff01e8377057cd6a7a688b0
DTSTAMP:20260422T222356Z
SUMMARY:Concert in support of Ukraine
DESCRIPTION:Website: https://www.rotary1780.org/thonon-genevois-internation
 al/
URL:https://geneve-international.rotaract.ch/nl/agenda/show/159727
DTSTART;TZID=Europe/Zurich:20230514T180000
DTEND;TZID=Europe/Zurich:20230514T200000
LOCATION:Auditoire de Calvin\, Place de la Taconnerie 1\, 1204 Genève
CATEGORIES:Rotaract
END:VEVENT
BEGIN:VTIMEZONE
TZID:Europe/Zurich
BEGIN:DAYLIGHT
DTSTART:20230514T180000
TZNAME:CEST
TZOFFSETTO:+0200
TZOFFSETFROM:+0200
END:DAYLIGHT
END:VTIMEZONE
END:VCALENDAR
