BEGIN:VCALENDAR
PRODID:-//eluceo/ical//2.0/EN
VERSION:2.0
CALSCALE:GREGORIAN
BEGIN:VEVENT
UID:53a3ac83e740790768136730bfca2baf
DTSTAMP:20260423T124503Z
SUMMARY:Projets Responsables : from micro-companies to humanitarian causes
DESCRIPTION:Website: https://thehamlet.com
URL:https://geneve-international.rotaract.ch/en/agenda/show/131733
DTSTART;TZID=Europe/Zurich:20211201T190000
DTEND;TZID=Europe/Zurich:20211201T203000
LOCATION:The Hamlet\, Rue Etienne-Dumont 12\, 1204 Genève\, Switzerland
CATEGORIES:Rotaract
END:VEVENT
BEGIN:VTIMEZONE
TZID:Europe/Zurich
BEGIN:STANDARD
DTSTART:20211201T190000
TZNAME:CET
TZOFFSETTO:+0100
TZOFFSETFROM:+0100
END:STANDARD
END:VTIMEZONE
END:VCALENDAR
